BEGIN:VCALENDAR
VERSION:2.0
PRODID:-//Goodwill Southwest Florida - ECPv6.15.20//NONSGML v1.0//EN
CALSCALE:GREGORIAN
METHOD:PUBLISH
X-WR-CALNAME:Goodwill Southwest Florida
X-ORIGINAL-URL:https://goodwillswfl.org
X-WR-CALDESC:Events for Goodwill Southwest Florida
REFRESH-INTERVAL;VALUE=DURATION:PT1H
X-Robots-Tag:noindex
X-PUBLISHED-TTL:PT1H
BEGIN:VTIMEZONE
TZID:America/New_York
BEGIN:DAYLIGHT
TZOFFSETFROM:-0500
TZOFFSETTO:-0400
TZNAME:EDT
DTSTART:20250309T070000
END:DAYLIGHT
BEGIN:STANDARD
TZOFFSETFROM:-0400
TZOFFSETTO:-0500
TZNAME:EST
DTSTART:20251102T060000
END:STANDARD
BEGIN:DAYLIGHT
TZOFFSETFROM:-0500
TZOFFSETTO:-0400
TZNAME:EDT
DTSTART:20260308T070000
END:DAYLIGHT
BEGIN:STANDARD
TZOFFSETFROM:-0400
TZOFFSETTO:-0500
TZNAME:EST
DTSTART:20261101T060000
END:STANDARD
BEGIN:DAYLIGHT
TZOFFSETFROM:-0500
TZOFFSETTO:-0400
TZNAME:EDT
DTSTART:20270314T070000
END:DAYLIGHT
BEGIN:STANDARD
TZOFFSETFROM:-0400
TZOFFSETTO:-0500
TZNAME:EST
DTSTART:20271107T060000
END:STANDARD
END:VTIMEZONE
BEGIN:VEVENT
DTSTART;TZID=America/New_York:20260423T100000
DTEND;TZID=America/New_York:20260423T123000
DTSTAMP:20260421T043000
CREATED:20260406T151512Z
LAST-MODIFIED:20260406T151512Z
UID:865-1776938400-1776947400@goodwillswfl.org
SUMMARY:Lehigh Job and Resource Fair
DESCRIPTION:Job & Resource Fair!\n10am – 12:30pm\nEast County Regional Library
URL:https://goodwillswfl.org/event/lehigh-job-and-resource-fair/
CATEGORIES:Job Fair
ATTACH;FMTTYPE=image/jpeg:https://goodwillswfl.org/wp-content/uploads/2026/04/Lehigh-Job-Resource-Fair-4-23-26-scaled.jpg
END:VEVENT
BEGIN:VEVENT
DTSTART;TZID=America/New_York:20260429T100000
DTEND;TZID=America/New_York:20260429T130000
DTSTAMP:20260421T043000
CREATED:20260319T190432Z
LAST-MODIFIED:20260319T190432Z
UID:858-1777456800-1777467600@goodwillswfl.org
SUMMARY:Skilled Trades Hiring Event
DESCRIPTION:SKILLED TRADES HIRING EVENT\nLooking to add skilled talent to your team?\nWe invite you to register for our next hiring event\nwhere you could meet\, interview and recruit\nrecent trade graduates from the following programs : \n\nPlumbing\nHVAC\nWelding\nElectrical\n\nApril 29\, 2026\n10:00 AM – 1:00 PM\n209 N Industrial Loop\, LaBelle\, FL 33935 \nMeet skilled\, job ready individuals who are prepared to interview and start their careers right away. Take advantage of this chance to hire on the spot and invest in the future of our local workforce. \nRegistration is FREE of charge. To register email LScott@collaboratory.org
URL:https://goodwillswfl.org/event/skilled-trades-hiring-event/
ATTACH;FMTTYPE=application/pdf:https://goodwillswfl.org/wp-content/uploads/2026/03/Skilled-Trades-Hiring-Event-Employer-flyer-April-29th.pdf
END:VEVENT
END:VCALENDAR