BEGIN:VCALENDAR
VERSION:2.0
PRODID:-//Goodwill Southwest Florida - ECPv6.15.20//NONSGML v1.0//EN
CALSCALE:GREGORIAN
METHOD:PUBLISH
X-WR-CALNAME:Goodwill Southwest Florida
X-ORIGINAL-URL:https://goodwillswfl.org
X-WR-CALDESC:Events for Goodwill Southwest Florida
REFRESH-INTERVAL;VALUE=DURATION:PT1H
X-Robots-Tag:noindex
X-PUBLISHED-TTL:PT1H
BEGIN:VTIMEZONE
TZID:America/New_York
BEGIN:DAYLIGHT
TZOFFSETFROM:-0500
TZOFFSETTO:-0400
TZNAME:EDT
DTSTART:20230312T070000
END:DAYLIGHT
BEGIN:STANDARD
TZOFFSETFROM:-0400
TZOFFSETTO:-0500
TZNAME:EST
DTSTART:20231105T060000
END:STANDARD
BEGIN:DAYLIGHT
TZOFFSETFROM:-0500
TZOFFSETTO:-0400
TZNAME:EDT
DTSTART:20240310T070000
END:DAYLIGHT
BEGIN:STANDARD
TZOFFSETFROM:-0400
TZOFFSETTO:-0500
TZNAME:EST
DTSTART:20241103T060000
END:STANDARD
BEGIN:DAYLIGHT
TZOFFSETFROM:-0500
TZOFFSETTO:-0400
TZNAME:EDT
DTSTART:20250309T070000
END:DAYLIGHT
BEGIN:STANDARD
TZOFFSETFROM:-0400
TZOFFSETTO:-0500
TZNAME:EST
DTSTART:20251102T060000
END:STANDARD
END:VTIMEZONE
BEGIN:VEVENT
DTSTART;VALUE=DATE:20240629
DTEND;VALUE=DATE:20240630
DTSTAMP:20260425T094504
CREATED:20240610T151702Z
LAST-MODIFIED:20240610T151730Z
UID:177-1719619200-1719705599@goodwillswfl.org
SUMMARY:Pre VIP PERK July 4th Sale
DESCRIPTION:40% off Donated Goods* \n25% off Donated Goods*\nat Downtown Fort Myers blue and Ave Maria blue Boutiques \n*Sale excludes: (Blue locations Fine Art\,) New Goods/Special Purchases\, Goodwill Outlet Center\, Cannot be combined with any other sales promotions. Sale valid at Goodwill Retail & Donations Centers in Lee\, Collier\, Charlotte\, Hendry Counties.  For store listing: www.goodwillswfl.org/locations
URL:https://goodwillswfl.org/event/pre-vip-perk-july-4th-sale/
LOCATION:FL
ATTACH;FMTTYPE=image/jpeg:https://goodwillswfl.org/wp-content/uploads/2024/06/June292024VIPJuly4.jpg
END:VEVENT
BEGIN:VEVENT
DTSTART;VALUE=DATE:20240615
DTEND;VALUE=DATE:20240616
DTSTAMP:20260425T094504
CREATED:20240610T151530Z
LAST-MODIFIED:20240610T151555Z
UID:175-1718409600-1718495999@goodwillswfl.org
SUMMARY:Community Appreciation Day 3 Locations Only: 40% off Donated Goods
DESCRIPTION:Community Appreciation Day 3 Locations Only\n40% off Donated Goods \nChallenger\n4950 Challenger Blvd\nFort Myers\, FL 33966 \nMcGregor\n15271 McGregor Blvd\nFort Myers\, FL 33908 \nPunta Gorda\n3415 Tamiami Trail\nPunta Gorda\, FL 33950
URL:https://goodwillswfl.org/event/community-appreciation-day-3-locations-only-40-off-donated-goods/
LOCATION:FL
ATTACH;FMTTYPE=image/jpeg:https://goodwillswfl.org/wp-content/uploads/2024/06/June2024CAD.jpg
END:VEVENT
END:VCALENDAR