BEGIN:VCALENDAR
VERSION:2.0
PRODID:-//Goodwill Southwest Florida - ECPv6.15.20//NONSGML v1.0//EN
CALSCALE:GREGORIAN
METHOD:PUBLISH
X-ORIGINAL-URL:https://goodwillswfl.org
X-WR-CALDESC:Events for Goodwill Southwest Florida
REFRESH-INTERVAL;VALUE=DURATION:PT1H
X-Robots-Tag:noindex
X-PUBLISHED-TTL:PT1H
BEGIN:VTIMEZONE
TZID:America/New_York
BEGIN:DAYLIGHT
TZOFFSETFROM:-0500
TZOFFSETTO:-0400
TZNAME:EDT
DTSTART:20250309T070000
END:DAYLIGHT
BEGIN:STANDARD
TZOFFSETFROM:-0400
TZOFFSETTO:-0500
TZNAME:EST
DTSTART:20251102T060000
END:STANDARD
BEGIN:DAYLIGHT
TZOFFSETFROM:-0500
TZOFFSETTO:-0400
TZNAME:EDT
DTSTART:20260308T070000
END:DAYLIGHT
BEGIN:STANDARD
TZOFFSETFROM:-0400
TZOFFSETTO:-0500
TZNAME:EST
DTSTART:20261101T060000
END:STANDARD
BEGIN:DAYLIGHT
TZOFFSETFROM:-0500
TZOFFSETTO:-0400
TZNAME:EDT
DTSTART:20270314T070000
END:DAYLIGHT
BEGIN:STANDARD
TZOFFSETFROM:-0400
TZOFFSETTO:-0500
TZNAME:EST
DTSTART:20271107T060000
END:STANDARD
END:VTIMEZONE
BEGIN:VEVENT
DTSTART;VALUE=DATE:20260228
DTEND;VALUE=DATE:20260301
DTSTAMP:20260421T060816
CREATED:20260223T132715Z
LAST-MODIFIED:20260223T140754Z
UID:830-1772236800-1772323199@goodwillswfl.org
SUMMARY:Tax Season Sale - 20% Off
DESCRIPTION:Tax Season Sale\nSave on New Mattresses & New Linen\nSaturday\, February 28th\n20% Off All new goods mattresses\, headboards\, platforms\, bed rails and linen.\n  \nExcludes both Blue Boutiques\, Goodwill Outlet Center\, and Donated Goods. Cannot be combined with any other sales or promotions at Goodwill SWFL Retail and Donations location in Lee\, Collier\, Charlotte\, and Hendry counties.
URL:https://goodwillswfl.org/event/tax-season-scale-20-off/
ATTACH;FMTTYPE=image/jpeg:https://goodwillswfl.org/wp-content/uploads/2026/02/Tax-Season-Mattress-Linen-sale-2-16-2026-scaled.jpg
END:VEVENT
END:VCALENDAR